BEGIN:VCALENDAR
VERSION:2.0
PRODID:-//CASA SOFIA - ECPv6.15.16//NONSGML v1.0//EN
CALSCALE:GREGORIAN
METHOD:PUBLISH
X-WR-CALNAME:CASA SOFIA
X-ORIGINAL-URL:https://www.casasofia.nl
X-WR-CALDESC:Evenementen voor CASA SOFIA
REFRESH-INTERVAL;VALUE=DURATION:PT1H
X-Robots-Tag:noindex
X-PUBLISHED-TTL:PT1H
BEGIN:VTIMEZONE
TZID:Europe/Amsterdam
BEGIN:DAYLIGHT
TZOFFSETFROM:+0100
TZOFFSETTO:+0200
TZNAME:CEST
DTSTART:20250330T010000
END:DAYLIGHT
BEGIN:STANDARD
TZOFFSETFROM:+0200
TZOFFSETTO:+0100
TZNAME:CET
DTSTART:20251026T010000
END:STANDARD
BEGIN:DAYLIGHT
TZOFFSETFROM:+0100
TZOFFSETTO:+0200
TZNAME:CEST
DTSTART:20260329T010000
END:DAYLIGHT
BEGIN:STANDARD
TZOFFSETFROM:+0200
TZOFFSETTO:+0100
TZNAME:CET
DTSTART:20261025T010000
END:STANDARD
BEGIN:DAYLIGHT
TZOFFSETFROM:+0100
TZOFFSETTO:+0200
TZNAME:CEST
DTSTART:20270328T010000
END:DAYLIGHT
BEGIN:STANDARD
TZOFFSETFROM:+0200
TZOFFSETTO:+0100
TZNAME:CET
DTSTART:20271031T010000
END:STANDARD
END:VTIMEZONE
BEGIN:VEVENT
DTSTART;TZID=Europe/Amsterdam:20260227T180000
DTEND;TZID=Europe/Amsterdam:20260227T180000
DTSTAMP:20260426T051739
CREATED:20260130T105557Z
LAST-MODIFIED:20260226T104448Z
UID:1416-1772215200-1772215200@www.casasofia.nl
SUMMARY:Taste of Nieuw-West: Ana Beck - Braziliaanse muziek
DESCRIPTION:Deze keer weer een optreden in Casa Sofia\, Louwesweg 6-G. Er zal een optreden zijn plus een heerlijke maaltijd (ook voor de vegetariërs onder ons). \nVrijdag 27 februari \nAna Beck met Daniel de Moraes (gitaar) \nAna Beck is geboren in Rio de Janeiro en begon als kind al met zingen. Verschillende stijlen Braziliaanse muziek zullen aan bod komen: Bossa Nova\, Samba\, Baião en Bolero. Daniel de Moraes zal haar begeleiden op gitaar. \n  \nRESERVEREN \nReserveer alvast je plekje via www.tasteofnieuwwest.nl/contact  of reserveer via info@casasofia.nl met als onderwerp ‘TASTE NEW WEST RESERVERING’ \nZaal open: 18:00 u\nAanvang programma 18:45 u \nMaaltijd: 19.15 u \nLouwesweg 6-G\, Amsterdam\nwww.casasofia.nl
URL:https://www.casasofia.nl/evenement/taste-of-nieuw-west-ana-beck-braziliaanse-muziek/
LOCATION:Casa Sofia Slotervaart\, Louwesweg 6G\, Amsterdam\, 1066 EC
ATTACH;FMTTYPE=image/jpeg:https://www.casasofia.nl/wp-content/uploads/2026/01/Ana-Beck.jpg
END:VEVENT
END:VCALENDAR